BEGIN:VCALENDAR
VERSION:2.0
PRODID:-//Massachusetts Health &amp; Hospital Association - ECPv6.15.20//NONSGML v1.0//EN
CALSCALE:GREGORIAN
METHOD:PUBLISH
X-ORIGINAL-URL:https://www.mhalink.org
X-WR-CALDESC:Events for Massachusetts Health &amp; Hospital Association
REFRESH-INTERVAL;VALUE=DURATION:PT1H
X-Robots-Tag:noindex
X-PUBLISHED-TTL:PT1H
BEGIN:VTIMEZONE
TZID:America/New_York
BEGIN:DAYLIGHT
TZOFFSETFROM:-0500
TZOFFSETTO:-0400
TZNAME:EDT
DTSTART:20230312T070000
END:DAYLIGHT
BEGIN:STANDARD
TZOFFSETFROM:-0400
TZOFFSETTO:-0500
TZNAME:EST
DTSTART:20231105T060000
END:STANDARD
BEGIN:DAYLIGHT
TZOFFSETFROM:-0500
TZOFFSETTO:-0400
TZNAME:EDT
DTSTART:20240310T070000
END:DAYLIGHT
BEGIN:STANDARD
TZOFFSETFROM:-0400
TZOFFSETTO:-0500
TZNAME:EST
DTSTART:20241103T060000
END:STANDARD
BEGIN:DAYLIGHT
TZOFFSETFROM:-0500
TZOFFSETTO:-0400
TZNAME:EDT
DTSTART:20250309T070000
END:DAYLIGHT
BEGIN:STANDARD
TZOFFSETFROM:-0400
TZOFFSETTO:-0500
TZNAME:EST
DTSTART:20251102T060000
END:STANDARD
END:VTIMEZONE
BEGIN:VEVENT
DTSTART;TZID=America/New_York:20240410T120000
DTEND;TZID=America/New_York:20240410T133000
DTSTAMP:20260424T030254
CREATED:20240213T152516Z
LAST-MODIFIED:20240701T174041Z
UID:10000277-1712750400-1712755800@www.mhalink.org
SUMMARY:Complex Care Coordination: Identification and Screening for High-Risk Assessment Multidisciplinary Rounds for Best Practice
DESCRIPTION:VIRTUAL  \n\n\n\nNot sure if you can attend virtual events live? Your registration guarantees the link to attend live as well as receiving the recording\, slides and materials shared during the event afterwards. \n\n\n\nLearn strategies for facilitating timely discharges for complex patients through early identification and clinical interventions. \n\n\n\n\n\n\nNEW from MHA and The Center for Case Management\n\n\n\nThis series\, brought to you by MHA and the Center for Case Management\, provides case managers\, social workers\, and care transitions team members with the opportunity to hone and adopt best-practice strategies that ensure standardized\, evidence-based\, contemporary practice.  \n\n\n\nThis is part two of a seven-part series\, with four virtual and three in-person events. Interested enrollees can purchase one course\, or all seven. For additional information\, questions\, and registration\, please contact MHA’s Sara Ramon.  \n\n\n\n$99/pp Virtual Events \n\n\n\n$199/pp In- Person Events \n\n\n\n$694/pp Full Bundle \n\n\n\n\n\n\nEmail MHA’s Sara Ramon\n\n\n\n\n\n\n\n\n\nIf you are experiencing any difficulties with the site or registration\, please email Sara Ramon at sramon@mhalink.org or Laurie Snelson at lsnelson@mhalink.org for assistance. In your correspondence\, please include the registrant’s name\, title\, organization\, and email for confirmation. \n\n\n\n\n\n\nREGISTRATION\n\n\n\nEVENT CONTACT\n\n\n\n\n\n\nREGISTERFAX 781-262-6136 \n\n\n\nMAIL –  Check Payable to MHAMHA Education Department500 District Ave.Burlington\, MA 01803-5096 \n\n\n\n\n\nCancellation Policy (for in-person events only): Full refunds will be recognized when cancellations occur at least 5 business days prior to an in-person event. Any cancellation notices received after this time will result in $50 administrative fee. To avoid this penalty\, you may send someone in your place by forwarding their full name\, title and email address to the Director of Healthcare Education\, Amy Smalarz at asmalarz@mhalink.org. No shows will be responsible for payment in full.
URL:https://www.mhalink.org/event/complex-care-coordination-identification-and-screening-for-high-risk-assessment-mdr-rounds-for-best-practice/
CATEGORIES:MHA Conferences,Continuing Education
ATTACH;FMTTYPE=image/png:https://www.mhalink.org/wp-content/uploads/2024/02/image.png
END:VEVENT
BEGIN:VEVENT
DTSTART;TZID=America/New_York:20240423T090000
DTEND;TZID=America/New_York:20240424T120000
DTSTAMP:20260424T030254
CREATED:20231221T205829Z
LAST-MODIFIED:20240416T201357Z
UID:10000264-1713862800-1713960000@www.mhalink.org
SUMMARY:Emergency Medicine Summit
DESCRIPTION:VIRTUAL EVENT \n\n\n\nPlease Note: Those registering for this virtual event will receive a recording of it and slides after the presentation\, so if you can’t join us on the day of the event\, register anyways and review the material at your leisure. \n\n\n\n\n\n\n\n$199/pp for Virtual Event \n\n\n\nIf you are experiencing any difficulties with the site or registration\, please email Sara Ramon at sramon@mhalink.org or Laurie Snelson at lsnelson@mhalink.org for assistance. In your correspondence\, please include the registrant’s name\, title\, organization\, and email for confirmation. \n\n\n\n\n\n\nREGISTRATION\n\n\n\nEVENT CONTACT\n\n\n\n\n\n\nREGISTERFAX 781-262-6136 \n\n\n\nMAIL –  Check Payable to MHAMHA Education Department500 District Ave.Burlington\, MA 01803-5096 \n\n\n\n\n\n\nRegister Here\n\n\n\n\n\nAgenda \n\n\n\nDay 1: April 23\, 2024 9 – 11:30 A.M. \n\n\n\nHealth Access \n\n\n\n\nResources and Access for Migrants \n\nOverview of health coverage and access issues for individuals who have immigrated to the U.S.\n\n\n\nMassachusetts and federal statutory & regulatory requirements\n\n\n\nPrograms and access options for migrants\n\n\n\n\n\nMedicaid Redetermination & Impact on Emergency Departments \n\nFederal overview\n\n\n\nRedetermination process in Massachusetts and collaborative efforts with state-based organizations\n\n\n\nUpdate on litigation challenge state redetermination processes\n\n\n\n\n\n\nDay 2: April 24\, 2024: 9A.M. – 12 P.M. \n\n\n\nEmergency Department Impact \n\n\n\n\nDiscussion of Boarding Issues \n\nPrior authorization at the state and Medicare Advantage levels\n\n\n\n\n\nBehavioral Health Issues in the Emergency Department \n\nUpdate on Massachusetts “Roadmap” and transitions between EDs and CBHCs \n\n\n\nNew Behavioral Health Treatment Referral Platform overview \n\n\n\n\n\nEmergency Department Regulatory (EMTALA) Update \n\nUpdate on Supreme Court litigation\n\n\n\nOther State Medicaid agencies and Emergency Department diversion cases\n\n\n\nDisputes over on-call issues – status report on CMS requirements\n\n\n\nDPH ED signage and wayfinding regulations  \n\n\n\n\n\n\n\nCancellation Policy (for in-person events only): Full refunds will be recognized when cancellations occur at least 5 business days prior to an in-person event. Any cancellation notices received after this time will result in $50 administrative fee. To avoid this penalty\, you may send someone in your place by forwarding their full name\, title and email address to the Director of Healthcare Education\, Amy Smalarz at asmalarz@mhalink.org. No shows will be responsible for payment in full.
URL:https://www.mhalink.org/event/emergency-management-summit/
CATEGORIES:MHA Conferences
ATTACH;FMTTYPE=image/png:https://www.mhalink.org/wp-content/uploads/2023/12/EM-Summit-Web.png
END:VEVENT
END:VCALENDAR