BEGIN:VCALENDAR
VERSION:2.0
PRODID:-//Massachusetts Health &amp; Hospital Association - ECPv6.15.20//NONSGML v1.0//EN
CALSCALE:GREGORIAN
METHOD:PUBLISH
X-ORIGINAL-URL:https://www.mhalink.org
X-WR-CALDESC:Events for Massachusetts Health &amp; Hospital Association
REFRESH-INTERVAL;VALUE=DURATION:PT1H
X-Robots-Tag:noindex
X-PUBLISHED-TTL:PT1H
BEGIN:VTIMEZONE
TZID:America/New_York
BEGIN:DAYLIGHT
TZOFFSETFROM:-0500
TZOFFSETTO:-0400
TZNAME:EDT
DTSTART:20230312T070000
END:DAYLIGHT
BEGIN:STANDARD
TZOFFSETFROM:-0400
TZOFFSETTO:-0500
TZNAME:EST
DTSTART:20231105T060000
END:STANDARD
BEGIN:DAYLIGHT
TZOFFSETFROM:-0500
TZOFFSETTO:-0400
TZNAME:EDT
DTSTART:20240310T070000
END:DAYLIGHT
BEGIN:STANDARD
TZOFFSETFROM:-0400
TZOFFSETTO:-0500
TZNAME:EST
DTSTART:20241103T060000
END:STANDARD
BEGIN:DAYLIGHT
TZOFFSETFROM:-0500
TZOFFSETTO:-0400
TZNAME:EDT
DTSTART:20250309T070000
END:DAYLIGHT
BEGIN:STANDARD
TZOFFSETFROM:-0400
TZOFFSETTO:-0500
TZNAME:EST
DTSTART:20251102T060000
END:STANDARD
END:VTIMEZONE
BEGIN:VEVENT
DTSTART;TZID=America/New_York:20240503T073000
DTEND;TZID=America/New_York:20240503T143000
DTSTAMP:20260424T014604
CREATED:20231221T210106Z
LAST-MODIFIED:20240506T180338Z
UID:10000262-1714721400-1714746600@www.mhalink.org
SUMMARY:Design Operations & Construction (DOC) Conference
DESCRIPTION:THIS EVENT HAS CONCLUDED. \n\n\n\n\n\nThis conference is FREE for MHFPS\, NEHES\, and other facility professionals working for a hospital or system. If you are eligible for free registration please contact Laurie Snelson. \n\n\n\n\n\n$199/pp Member Rate \n\n\n\n$299/pp Non-Member Rate \n\n\n\n$179/pp 3+ Group rate \n\n\n\nIf you are experiencing any difficulties with the site or registration\, please email Sara Ramon at sramon@mhalink.org or Laurie Snelson at lsnelson@mhalink.org for assistance. In your correspondence\, please include the registrant’s name\, title\, organization\, and email for confirmation. \n\n\n\n\n\nREGISTERFAX 781-262-6136 \n\n\n\nMAIL –  Check Payable to MHAMHA Education Department500 District Ave.Burlington\, MA 01803-5096 \n\n\n\n\n\n\nAgenda \n\n\n\n7–7:30 a.m.| Registration \n\n\n\n7:30–7:45 a.m. | Opening Remarks \n\n\n\nKris Kennedy\, President\, MHFPS \n\n\n\n7:45–8:45 a.m. | Three Steps Ahead: Continuous Master Planning on a Hospital Campus \n\n\n\nPaul Cantrell\, Vice President of Planning\, Design and Construction\, Lahey Hospital & Medical Center   \n\n\n\nRebecca Jablonowski\, President/Founder\, Brio Project Management LLC  \n\n\n\nCandice Barter\, Partner\, E4H Architects  \n\n\n\nJoe Dussault\, Partner & Co-Manager Boston Office\, CMTA\, Inc.  \n\n\n\nMODERATOR – Tim King\, Director of Client Development\, BOND Building Construction\, Inc.  \n\n\n\n8:45–9:45 a.m. | Decarbonization & Electrification: Mandates\, Schedules and Progress \n\n\n\nDon Contois\, Associate Principal\, R.W. Sullivan Engineering  \n\n\n\nTom Secondo\, Prinicpal\, HVAC & Sustainability\, R.W. Sullivan Engineering \n\n\n\nBill Guarnagia\, Principal\, ICO Energy and Engineering\, Inc.  \n\n\n\nNick Keller\, Principal\, ICO Energy and Engineering\, Inc.  \n\n\n\nGreg Lamson\, Principal Facilities Engineer\, Regional Facilities\, Boston Scientific  \n\n\n\nMODERATOR – Alison Brisson\, Vice President\, Facilities & Support Services\, Cambridge Health Alliance  \n\n\n\n9:45–10:15 a.m. | Break \n\n\n\n10:15–10:20 a.m. | Build Health International \n\n\n\nGerard Georges\, Director of Architecture\, Build Health International \n\n\n\nRobert Raymond\, Healthcare Planner & Architect\, Build Health International \n\n\n\n10:20–11:20 a.m. | The Advantages and Benefits of Pre-fabrication   \n\n\n\nMark Tarlton\, Senior Director of Facility Planning & Construction\, Beth Israel Deaconness Hospital-Plymouth \n\n\n\nErin McKinnon\, Senior Project Manager/Real Estate\, Mass General Brigham  \n\n\n\nCorina Horwitz\, Interior Construction Design Manager\, Creative Office Resources \n\n\n\nKen Konopasek\, National Healthcare Rep\, DIRTT Environmental Solutions  \n\n\n\nMelissa McEwen\, Principal & Co-Founder\, ICG Consulting  \n\n\n\nBill Seery\, Director of Prefabrication\, Consigli   \n\n\n\nMODERATOR – Tim King\, Director of Client Development\, BOND Building Construction\, Inc. \n\n\n\n11:20 a.m.–12:20 p.m. | Optimizing Success: Exploring the Value of OPM Services \n\n\n\nJekaterina Shelley\, Senior Director of Facilities and Planning\, Mass Eye & Ear  \n\n\n\nAndrea S. Kerr\, Director Strategic Facilities Planning\, UMass Memorial Health \n\n\n\nMary O’Looney\, Senior Planner & Construction Project Manager\, UMass Memorial Health \n\n\n\nDanielle Buckley\, Principal\, Isgenuity.  \n\n\n\nLisa Mann\, Senior Project Manager\, Scalora Consulting Group  \n\n\n\nMODERATOR – Kristi Dowd\, Executive Vice President\, Redgate  \n\n\n\n12:15–1:30 p.m. | Lunch & Networking \n\n\n\n\n\n\n\n\nCancellation Policy (for in-person events only): Full refunds will be recognized when cancellations occur at least 5 business days prior to an in-person event. Any cancellation notices received after this time will result in $50 administrative fee. To avoid this penalty\, you may send someone in your place by forwarding their full name\, title and email address to the Director of Healthcare Education\, Amy Smalarz at asmalarz@mhalink.org. No shows will be responsible for payment in full.
URL:https://www.mhalink.org/event/design-operations-construction-doc-summit/
CATEGORIES:MHA Conferences
ATTACH;FMTTYPE=image/png:https://www.mhalink.org/wp-content/uploads/2023/12/2024-Design-Conference-WEB.png
END:VEVENT
BEGIN:VEVENT
DTSTART;TZID=America/New_York:20240509T130000
DTEND;TZID=America/New_York:20240509T170000
DTSTAMP:20260424T014604
CREATED:20231221T205250Z
LAST-MODIFIED:20250224T174745Z
UID:10000263-1715259600-1715274000@www.mhalink.org
SUMMARY:Emerging Leaders Summit
DESCRIPTION:THIS EVENT HAS CONCLUDED \n\n\n\nSee Agenda Below \n\n\n\n\n\n\n\n$149/pp Rate$129/pp 3+ Group Rate \n\n\n\nIf you are experiencing any difficulties with the site or registration\, please email Sara Ramon at sramon@mhalink.org or Laurie Snelson at lsnelson@mhalink.org for assistance. In your correspondence\, please include the registrant’s name\, title\, organization\, and email for confirmation. \n\n\n\n\n\n\nREGISTRATION\n\n\n\nEVENT CONTACT\n\n\n\n\n\n\nREGISTERFAX 781-262-6136 \n\n\n\nMAIL –  Check Payable to MHAMHA Education Department500 District Ave.Burlington\, MA 01803-5096 \n\n\n\n\n\n\n\n\n\n\n\n\nAGENDA \n\n\n\n1 – 1:45 p.m. : Registration & Professional Headshots \n\n\n\n2 – 3 p.m. : “Handle Hard Better” \n\n\n\nKara Lawson\, Head Coach\, Duke Women’s Basketball\, former Assistant Coach\, Boston Celtics \n\n\n\n3 – 4 p.m. : “Using Your Compass to Find Your Path” \n\n\n\nAl Campbell\, President\, Winchester Hospital \n\n\n\nJoe Camillus\, Chief Operating Officer\, Boston Medical Center \n\n\n\nWendy Weitzner\, Partner at The Innova Group \n\n\n\nNana Twum-Danso\, MD\, MPH\, FACPM\, Senior Vice President\, Institute for Healthcare Improvement \n\n\n\nModerator: Thaddeus Thompson\, President\, NAHSE Greater Boston\, Managing Director\, Leland Healthcare Advisors & Consultants \n\n\n\n4 – 4:20 p.m. : BREAK & Professional Headshots \n\n\n\n4:20 – 5 p.m. : “Continuing Your Leadership Journey: How to Own Your Career Path” \n\n\n\nCurtis Odom\, Ed.D\, Associate Teaching Professor\, D’Amore-McKim School of Business\, Northeastern University \n\n\n\n5 – 5:20 p.m. : Self-Empowerment & Accountability \n\n\n\nAmy Smalarz\, PhD\, Director\, Healthcare Education & Professional Development\, MHA \n\n\n\n5:30 – 7:00 p.m. : Reception \n\n\n\n\n\n\n\n\nCancellation Policy (for in-person events only): Full refunds will be recognized when cancellations occur at least 5 business days prior to an in-person event. Any cancellation notices received after this time will result in $50 administrative fee. To avoid this penalty\, you may send someone in your place by forwarding their full name\, title and email address to the Director of Healthcare Education\, Amy Smalarz at asmalarz@mhalink.org. No shows will be responsible for payment in full.
URL:https://www.mhalink.org/event/emerging-leaders-summit/
LOCATION:MCLE Conference Center\, 10 Winter Place\, Boston\, Massachusetts\, 02108\, United States
CATEGORIES:MHA Conferences
ATTACH;FMTTYPE=image/png:https://www.mhalink.org/wp-content/uploads/2023/12/Emerging-Leaders-2024-2.png
END:VEVENT
BEGIN:VEVENT
DTSTART;TZID=America/New_York:20240517T120000
DTEND;TZID=America/New_York:20240517T133000
DTSTAMP:20260424T014604
CREATED:20240213T160248Z
LAST-MODIFIED:20240701T174256Z
UID:10000278-1715947200-1715952600@www.mhalink.org
SUMMARY:Psychosocial Presentations: The Evolving Role of Clinical Social Work in Acute Care
DESCRIPTION:VITRUAL EVENT \n\n\n\nNot sure if you can attend virtual events live? Your registration guarantees the link to attend live as well as receiving the recording\, slides and materials shared during the event afterwards. \n\n\n\nReview the core needs for social workers in an inpatient setting and why their clinical skill sets need to be leveraged for patient and organizational success. \n\n\n\n\n\n\nNEW from MHA and The Center for Case Management\n\n\n\nThis series\, brought to you by MHA and the Center for Case Management\, provides case managers\, social workers\, and care transitions team members with the opportunity to hone and adopt best-practice strategies that ensure standardized\, evidence-based\, contemporary practice.  \n\n\n\nThis is part three of a seven-part series\, with four virtual and three in-person events. Interested enrollees can purchase one course\, or all seven. For additional information\, questions\, and registration\, please contact MHA’s Sara Ramon.  \n\n\n\n$99/pp Virtual Events \n\n\n\n$199/pp In- Person Events \n\n\n\n$694/pp Full Bundle \n\n\n\n\n\n\nEmail MHA’s Sara Ramon\n\n\n\n\n\n\n\n\n\nIf you are experiencing any difficulties with the site or registration\, please email Sara Ramon at sramon@mhalink.org or Laurie Snelson at lsnelson@mhalink.org for assistance. In your correspondence\, please include the registrant’s name\, title\, organization\, and email for confirmation. \n\n\n\n\n\n\nREGISTRATION\n\n\n\nEVENT CONTACT\n\n\n\n\n\n\n \n\n\n\nREGISTERFAX 781-262-6136 \n\n\n\nMAIL –  Check Payable to MHAMHA Education Department500 District Ave.Burlington\, MA 01803-5096 \n\n\n\n\n\nCancellation Policy (for in-person events only): Full refunds will be recognized when cancellations occur at least 5 business days prior to an in-person event. Any cancellation notices received after this time will result in $50 administrative fee. To avoid this penalty\, you may send someone in your place by forwarding their full name\, title and email address to the Director of Healthcare Education\, Amy Smalarz at asmalarz@mhalink.org. No shows will be responsible for payment in full.
URL:https://www.mhalink.org/event/psychosocial-presentations-the-evolving-role-of-clinical-social-work-in-acute-care/
CATEGORIES:MHA Conferences,Continuing Education
ATTACH;FMTTYPE=image/png:https://www.mhalink.org/wp-content/uploads/2024/02/image.png
END:VEVENT
END:VCALENDAR