BEGIN:VCALENDAR
VERSION:2.0
PRODID:-//Massachusetts Health &amp; Hospital Association - ECPv6.15.20//NONSGML v1.0//EN
CALSCALE:GREGORIAN
METHOD:PUBLISH
X-WR-CALNAME:Massachusetts Health &amp; Hospital Association
X-ORIGINAL-URL:https://www.mhalink.org
X-WR-CALDESC:Events for Massachusetts Health &amp; Hospital Association
REFRESH-INTERVAL;VALUE=DURATION:PT1H
X-Robots-Tag:noindex
X-PUBLISHED-TTL:PT1H
BEGIN:VTIMEZONE
TZID:America/New_York
BEGIN:DAYLIGHT
TZOFFSETFROM:-0500
TZOFFSETTO:-0400
TZNAME:EDT
DTSTART:20230312T070000
END:DAYLIGHT
BEGIN:STANDARD
TZOFFSETFROM:-0400
TZOFFSETTO:-0500
TZNAME:EST
DTSTART:20231105T060000
END:STANDARD
BEGIN:DAYLIGHT
TZOFFSETFROM:-0500
TZOFFSETTO:-0400
TZNAME:EDT
DTSTART:20240310T070000
END:DAYLIGHT
BEGIN:STANDARD
TZOFFSETFROM:-0400
TZOFFSETTO:-0500
TZNAME:EST
DTSTART:20241103T060000
END:STANDARD
BEGIN:DAYLIGHT
TZOFFSETFROM:-0500
TZOFFSETTO:-0400
TZNAME:EDT
DTSTART:20250309T070000
END:DAYLIGHT
BEGIN:STANDARD
TZOFFSETFROM:-0400
TZOFFSETTO:-0500
TZNAME:EST
DTSTART:20251102T060000
END:STANDARD
END:VTIMEZONE
BEGIN:VEVENT
DTSTART;TZID=America/New_York:20241003T120000
DTEND;TZID=America/New_York:20241003T133000
DTSTAMP:20260423T173452
CREATED:20240213T151218Z
LAST-MODIFIED:20241003T182429Z
UID:10000276-1727956800-1727962200@www.mhalink.org
SUMMARY:Utilization Review & Changing Payer Dynamics AND Understanding CMS Rules and Regulation
DESCRIPTION:THIS EVENT HAS CONCLUDED. \n\n\n\nVIRTUAL EVENT \n\n\n\nNot sure if you can attend virtual events live? Your registration guarantees the link to attend live as well as receiving the recording\, slides and materials shared during the event afterwards. \n\n\n\n\n\nDiscuss post-COVID dynamics affecting both payers and providers\n\n\n\nExamine various managed care organization tactics that seek to reduce hospital reimbursement and how to address these tactics to maximize reimbursement.\n\n\n\nIdentify federal regulation effects on consumers\, payers\, and providers\n\n\n\n\n\n\n\n\nNEW from MHA and The Center for Case Management\n\n\n\nThis series\, brought to you by MHA and the Center for Case Management\, provides case managers\, social workers\, and care transitions team members with the opportunity to hone and adopt best-practice strategies that ensure standardized\, evidence-based\, contemporary practice.  \n\n\n\nThis is part seven of a seven-part series\, with four virtual and three in-person events. Interested enrollees can purchase one course\, or all seven. For additional information\, questions\, and registration\, please contact MHA’s Sara Ramon.  \n\n\n\n$99/pp Virtual Events \n\n\n\n$199/pp In- Person Events \n\n\n\n$694/pp Full Bundle \n\n\n\n\n\n\nEmail MHA’s Sara Ramon\n\n\n\n\n\n\n\n\n\nIf you are experiencing any difficulties with the site or registration\, please email Sara Ramon at sramon@mhalink.org or Laurie Snelson at lsnelson@mhalink.org for assistance. In your correspondence\, please include the registrant’s name\, title\, organization\, and email for confirmation. \n\n\n\n\n\n\nEVENT CONTACT\n\n\n\n\nREGISTERFAX 781-262-6136 \n\n\n\nMAIL –  Check Payable to MHAMHA Education Department500 District Ave.Burlington\, MA 01803-5096 \n\n\n\n\n\n\n\nCancellation Policy (for in-person events only): Full refunds will be recognized when cancellations occur at least 5 business days prior to an in-person event. Any cancellation notices received after this time will result in $50 administrative fee. To avoid this penalty\, you may send someone in your place by forwarding their full name\, title and email address to the Director of Healthcare Education\, Amy Smalarz at asmalarz@mhalink.org. No shows will be responsible for payment in full.
URL:https://www.mhalink.org/event/financial-utilization-review-and-changing-payer-dynamics/
LOCATION:MHA Conference Center\, 500 District Ave\, Burlington\, Massachusetts\, 01803\, United States
CATEGORIES:MHA Conferences,Continuing Education
ATTACH;FMTTYPE=image/png:https://www.mhalink.org/wp-content/uploads/2024/02/image.png
END:VEVENT
BEGIN:VEVENT
DTSTART;TZID=America/New_York:20241009T090000
DTEND;TZID=America/New_York:20241009T110000
DTSTAMP:20260423T173452
CREATED:20240911T145317Z
LAST-MODIFIED:20241009T145824Z
UID:10000321-1728464400-1728471600@www.mhalink.org
SUMMARY:Key Provisions of the 2025 IPPS Final Rule
DESCRIPTION:This event has concluded. \n\n\n\n\n\n\n\n$129  Member Rate$229   Non-Member Rate \n\n\n\n\n\n\nEVENT CONTACT\n\n\n\n\n\n\nREGISTERFAX 781-262-6136 \n\n\n\nMAIL –  Check Payable to MHAMHA Education Department500 District Ave.Burlington\, MA 01803-5096 \n\n\n\n\n\n\nVIRTUAL EVENT \n\n\n\nNot sure if you can attend virtual events live? Your registration guarantees the link to attend live as well as receiving the recording\, slides and materials shared during the event afterwards. \n\n\n\n\nOn August 28\, 2024\, the Centers for Medicare & Medicaid Services (CMS) published the 2025 Medicare Hospital Inpatient Prospective Payment System (IPPS) final rule. \n\n\n\n\n\n\n\n\n\nDuring this virtual program\, we’ll discuss the final rule’s key provisions and their impact on hospitals and other providers. Topics to be covered include: \n\n\n\n• Rate increases and wage index changes  \n\n\n\n• New mandatory episodic payment model (Transforming Episode Accountability Model (TEAM))  \n\n\n\n• Updated quality measure reporting requirements  \n\n\n\n• Changes to value-based purchasing and Promoting Interoperability programs  \n\n\n\n• New payments for buffer stocks of essential medicines  \n\n\n\n• Severity designation of Z-codes for housing inadequacy/instability  \n\n\n\n• Respiratory disease reporting requirements \n\n\n\n\n\nIf you are experiencing any difficulties with the site or registration\, please email Sara Ramon at sramon@mhalink.org or Laurie Snelson at lsnelson@mhalink.org for assistance. In your correspondence\, please include the registrant’s name\, title\, organization\, and email for confirmation. \n\n\n\nCancellation Policy (for in-person events only): Full refunds will be recognized when cancellations occur at least 5 business days prior to an in-person event. Any cancellation notices received after this time will result in $50 administrative fee. To avoid this penalty\, you may send someone in your place by forwarding their full name\, title and email address to the Director of Healthcare Education\, Amy Smalarz at asmalarz@mhalink.org. No shows will be responsible for payment in full.
URL:https://www.mhalink.org/event/key-provisions-of-the-2025-ipps-final-rule/
CATEGORIES:MHA Conferences
ATTACH;FMTTYPE=image/jpeg:https://www.mhalink.org/wp-content/uploads/2023/08/pexels-pixabay-209224-1-scaled.jpg
END:VEVENT
END:VCALENDAR