BEGIN:VCALENDAR
VERSION:2.0
PRODID:-//Massachusetts Health &amp; Hospital Association - ECPv6.15.20//NONSGML v1.0//EN
CALSCALE:GREGORIAN
METHOD:PUBLISH
X-ORIGINAL-URL:https://www.mhalink.org
X-WR-CALDESC:Events for Massachusetts Health &amp; Hospital Association
REFRESH-INTERVAL;VALUE=DURATION:PT1H
X-Robots-Tag:noindex
X-PUBLISHED-TTL:PT1H
BEGIN:VTIMEZONE
TZID:America/New_York
BEGIN:DAYLIGHT
TZOFFSETFROM:-0500
TZOFFSETTO:-0400
TZNAME:EDT
DTSTART:20240310T070000
END:DAYLIGHT
BEGIN:STANDARD
TZOFFSETFROM:-0400
TZOFFSETTO:-0500
TZNAME:EST
DTSTART:20241103T060000
END:STANDARD
BEGIN:DAYLIGHT
TZOFFSETFROM:-0500
TZOFFSETTO:-0400
TZNAME:EDT
DTSTART:20250309T070000
END:DAYLIGHT
BEGIN:STANDARD
TZOFFSETFROM:-0400
TZOFFSETTO:-0500
TZNAME:EST
DTSTART:20251102T060000
END:STANDARD
BEGIN:DAYLIGHT
TZOFFSETFROM:-0500
TZOFFSETTO:-0400
TZNAME:EDT
DTSTART:20260308T070000
END:DAYLIGHT
BEGIN:STANDARD
TZOFFSETFROM:-0400
TZOFFSETTO:-0500
TZNAME:EST
DTSTART:20261101T060000
END:STANDARD
END:VTIMEZONE
BEGIN:VEVENT
DTSTART;TZID=America/New_York:20250130T090000
DTEND;TZID=America/New_York:20250130T180000
DTSTAMP:20260423T115743
CREATED:20240726T200255Z
LAST-MODIFIED:20250227T155543Z
UID:10000316-1738227600-1738260000@www.mhalink.org
SUMMARY:MHA's 88th Annual Meeting
DESCRIPTION:This event has concluded. \n\n\n\n\n\n\n\n\n\n\n\n \n\n\n\n \n\n\n\n\n\n\n\n\n\n\n\n\n\n$449/PP Member\n\n\n\n\n\n$849/PP Non-Member\n\n\n\n\n\n\n\n\n\n\n\n\nEVENT SOLD OUT\n\n\n\nEVENT CONTACT\n\n\n\n\n\n\nREGISTERFAX 781-262-6136\n\n\n\n\nMAIL -  Check Payable to MHAMHA Education Department500 District Ave.Burlington\, MA 01803-5096\n\n\n\n\n\n\n\n\n\n\n\n\n\n\nThe Massachusetts Health & Hospital Association’s Annual Meeting is the premier event for the state’s top healthcare leaders\, policymakers\, and influencers to convene and discuss the biggest topics facing the provider community. \n\n\n\n\n\n\n\n\n\n\n\n\n\n\n\n\n8:00 a.m. General Registration & Breakfast GENERAL SESSIONS9:30 a.m.Welcome Michael Lauf\, President & CEO\, Cape Cod Healthcare; Incoming MHA Board ChairSteve Walsh\, President & CEO\, Massachusetts Health & Hospital Association  Annual Healthcare Address Her excellency\, Governor Maura Healey  \n\n\n\nPresentation of William L. Lane Award                                                                                                                      \n\n\n\n2025 Outlook: A Perspective from the Commissioner of Insurance  \n\n\n\nMichael Caljouw\, Commissioner\, Division of InsuranceKeynote Speaker: Reshaping How You Lead and Refueling How You Live Sara Ross\, Founder & Chief Vitality Officer\, BrainAMPED The Payer Perspective º Sarah Iselin\, President & CEO\, Blue Cross Blue Shield of Massachusetts º Manny Lopes\, President & CEO\, Fallon Health  º Michael Levine\, Assistant Secretary for MassHealthº Heather Thiltgen\, President\, WellSense Health Plan Moderator: Steve Tringale\, President\, Mass General Brigham Health Plan    \n\n\n\n\n\n12 p.m.: Lunch & Book Signing  \n\n\n\n\n12:30 p.m. Awards & RecognitionsStephen J. Hegarty Award Health & Hospital Hero AwardsA Celebration of Case Managers  Keynote Speaker: Stop Protecting Yesterday and Step Into Tomorrow Jason Feifer: Editor-in-Chief\, Entrepreneur Magazine  \n\n\n\n\n2:15 p.m.  Break \n\n\n\n\n\n\n2:40 p.m.    \n\n\n\nRecruiting and Retaining a Diverse Workforce º Al Campbell\, R.N.\, President\, Winchester Hospital º Kevin Churchwell\, M.D.\, President & CEO\, Boston Children’s Hospital º  Representative Brandy Fluker-Reid\, 12th Suffolk Districtº Freddie Jacobs\, Jr.\, President & CEO\, Northeast Retirement Services\, LLCModerator: Pratt Wiley\, President & CEO\, The Partnership\, Inc \n\n\n\n\nThe CEO Perspective º Abha Agrawal\, M.D.\, President & CEO\, Lawrence General Hospital º Peter Banko\, President & CEO\, Baystate Health º Alastair Bell\, M.D.\, President & CEO\, Boston Medical Center Health System º Anne Klibanski\, M.D.\, President & CEO\, Mass General Brigham  º Allen Smith\, M.D.\, President & CEO\, South Shore Health Moderator: Doug Banks\, Executive Editor\, Boston Business Journal  \n\n\n\n\nClosing Remarks                                                                                                                                                             Michael Lauf\, President & CEO\, Cape Cod Healthcare; MHA Board Chair  \n\n\n\n4:30 p.m.: Reception   \n\n\n\n\n\n \n\n\n\n\n\n\n\n\n\n\n\nJoin us as a Sponsor of MHA’s 88th Annual Meeting \n\n\n\nThis prestigious event will bring together senior executives and leaders from across the healthcare industry to discuss the latest trends\, innovations\, and challenges facing healthcare today.  \n\n\n\nAs a sponsor\, you will gain exceptional visibility among a diverse group of attendees\, providing a unique opportunity to showcase your brand and connect with key decision-makers in the industry. \n\n\n\n\nContact Amy Smalarz  for Sponsorship Opportunities\n\n\n\n\n\n\nCancellation Policy (for in-person events only): Full refunds will be recognized when cancellations occur at least 5 business days prior to an in-person event. Any cancellation notices received after this time will result in $50 administrative fee. To avoid this penalty\, you may send someone in your place by forwarding their full name\, title and email address to the Director of Healthcare Education\, Amy Smalarz at asmalarz@mhalink.org. No shows will be responsible for payment in full.
URL:https://www.mhalink.org/event/mhas-88th-annual-meeting-2025/
LOCATION:Westin Seaport\, 425 Summer St\, Boston\, MA\, 02110\, United States
CATEGORIES:MHA Conferences
ATTACH;FMTTYPE=image/png:https://www.mhalink.org/wp-content/uploads/2024/07/AM2025-NEW-WEB-1.png
END:VEVENT
END:VCALENDAR