BEGIN:VCALENDAR
VERSION:2.0
PRODID:-//Massachusetts Health &amp; Hospital Association - ECPv6.15.20//NONSGML v1.0//EN
CALSCALE:GREGORIAN
METHOD:PUBLISH
X-WR-CALNAME:Massachusetts Health &amp; Hospital Association
X-ORIGINAL-URL:https://www.mhalink.org
X-WR-CALDESC:Events for Massachusetts Health &amp; Hospital Association
REFRESH-INTERVAL;VALUE=DURATION:PT1H
X-Robots-Tag:noindex
X-PUBLISHED-TTL:PT1H
BEGIN:VTIMEZONE
TZID:America/New_York
BEGIN:DAYLIGHT
TZOFFSETFROM:-0500
TZOFFSETTO:-0400
TZNAME:EDT
DTSTART:20240310T070000
END:DAYLIGHT
BEGIN:STANDARD
TZOFFSETFROM:-0400
TZOFFSETTO:-0500
TZNAME:EST
DTSTART:20241103T060000
END:STANDARD
BEGIN:DAYLIGHT
TZOFFSETFROM:-0500
TZOFFSETTO:-0400
TZNAME:EDT
DTSTART:20250309T070000
END:DAYLIGHT
BEGIN:STANDARD
TZOFFSETFROM:-0400
TZOFFSETTO:-0500
TZNAME:EST
DTSTART:20251102T060000
END:STANDARD
BEGIN:DAYLIGHT
TZOFFSETFROM:-0500
TZOFFSETTO:-0400
TZNAME:EDT
DTSTART:20260308T070000
END:DAYLIGHT
BEGIN:STANDARD
TZOFFSETFROM:-0400
TZOFFSETTO:-0500
TZNAME:EST
DTSTART:20261101T060000
END:STANDARD
END:VTIMEZONE
BEGIN:VEVENT
DTSTART;TZID=America/New_York:20250225T100000
DTEND;TZID=America/New_York:20250225T133000
DTSTAMP:20260423T102647
CREATED:20250106T162119Z
LAST-MODIFIED:20260212T200759Z
UID:10000341-1740477600-1740490200@www.mhalink.org
SUMMARY:MHA’s Annual Joint Commission 2025 Update
DESCRIPTION:This event has concluded.  \n\n\n\n\n\nVIRTUAL EVENT \n\n\n\n\n\n\n\n\n$129   Per-Person$109   Group Rate 3+ \n\n\n\n\n\n\n\nPlease Note: Those registering for this virtual event will receive the recording and any presenter shared resources after the presentation\, so if you can’t join us on the day of the event. Be sure to register and review the material at your leisure. \n\n\n\n\n\n\n\nJoin us for MHA’s annual Joint Commission update conference! \n\n\n\nDon’t miss the opportunity to gain valuable insights and updates from industry experts and peers\, including hospitals that have undergone The Joint Commission survey process in the past year. \n\n\n\n\n\nThis program will cover: \n\n\n\n\nPresentations from The Joint Commission\n\n\n\n\n\nProgress updates regarding health equity and the 1115 Waiver\n\n\n\n\n\nPresentations from colleagues that have undergone The Joint Commission survey process in the past year.\n\n\n\n\n\n\nAGENDA \n\n\n\n2025 Joint Commission Update \n\n\n\n10 – 10:05 a.m. \n\n\n\nWelcome and Opening Remarks \n\n\n\nKim Stevenson\, Director\, Workforce & Clinical Affairs\, Massachusetts Health & Hospital Association \n\n\n\n10:05 – 11:35 a.m. \n\n\n\nKeynote Speakers:  Updates from The Joint Commission \n\n\n\nElizabeth Mort\, M.D.\, Vice President and Chief Medical Officer\, The Joint Commission \n\n\n\nRobert Campbell\, Senior Director\, Standards Interpretation\, Accreditation Decision Management & Medication Safety\, The Joint Commission \n\n\n\nMark A. Crafton\, Executive Director\, Strategic Alliances\, The Joint Commission \n\n\n\n11:35 a.m. – 12:05 p.m. \n\n\n\nJourney to Achieve The Joint Commission Health Equity Certification \n\n\n\nAnthony Alley\, R.N.\, Senior Vice President\, Clinical Operations\, Chief Nursing Officer & Chief Quality Officer\, Lawrence General Hospital & Holy Family Hospital \n\n\n\n12:05 – 1:20 p.m. \n\n\n\nSurvey Readiness and Results: Experiences from the Field \n\n\n\nErin Donovan\, Vice President\, Quality & Regulatory Compliance\, Tufts Medicine\, Lowell General Hospital \n\n\n\nLaura Sims\, R.N.\, Senior Director of Quality and Risk\, Athol Hospital\, Heywood Healthcare \n\n\n\nJody Langlois\, Director of Risk\, Athol Hospital\, Heywood Hospital \n\n\n\nSandra Montrond\, R.N.\, Senior Director\, Accreditation & Regulatory\, Boston Medical Center \n\n\n\nJodi Larson\, M.D.\, Chief Quality Officer & VP Quality & Safety\, Boston Medical Center \n\n\n\n1:20-1:30 p.m. \n\n\n\nClosing Remarks \n\n\n\n\nCancellation Policy (for in-person events only): Full refunds will be recognized when cancellations occur at least 5 business days prior to an in-person event. Any cancellation notices received after this time will result in $50 administrative fee. To avoid this penalty\, you may send someone in your place by forwarding their full name\, title and email address to the Director of Healthcare Education\, Amy Smalarz at asmalarz@mhalink.org. No shows will be responsible for payment in full.
URL:https://www.mhalink.org/event/mhas-annual-joint-commission-update/
CATEGORIES:MHA Conferences
ATTACH;FMTTYPE=image/png:https://www.mhalink.org/wp-content/uploads/2023/12/Joint-Commission-Update-for-Web.png
END:VEVENT
END:VCALENDAR