BEGIN:VCALENDAR
VERSION:2.0
PRODID:-//Massachusetts Health &amp; Hospital Association - ECPv6.15.20//NONSGML v1.0//EN
CALSCALE:GREGORIAN
METHOD:PUBLISH
X-ORIGINAL-URL:https://www.mhalink.org
X-WR-CALDESC:Events for Massachusetts Health &amp; Hospital Association
REFRESH-INTERVAL;VALUE=DURATION:PT1H
X-Robots-Tag:noindex
X-PUBLISHED-TTL:PT1H
BEGIN:VTIMEZONE
TZID:America/New_York
BEGIN:DAYLIGHT
TZOFFSETFROM:-0500
TZOFFSETTO:-0400
TZNAME:EDT
DTSTART:20240310T070000
END:DAYLIGHT
BEGIN:STANDARD
TZOFFSETFROM:-0400
TZOFFSETTO:-0500
TZNAME:EST
DTSTART:20241103T060000
END:STANDARD
BEGIN:DAYLIGHT
TZOFFSETFROM:-0500
TZOFFSETTO:-0400
TZNAME:EDT
DTSTART:20250309T070000
END:DAYLIGHT
BEGIN:STANDARD
TZOFFSETFROM:-0400
TZOFFSETTO:-0500
TZNAME:EST
DTSTART:20251102T060000
END:STANDARD
BEGIN:DAYLIGHT
TZOFFSETFROM:-0500
TZOFFSETTO:-0400
TZNAME:EDT
DTSTART:20260308T070000
END:DAYLIGHT
BEGIN:STANDARD
TZOFFSETFROM:-0400
TZOFFSETTO:-0500
TZNAME:EST
DTSTART:20261101T060000
END:STANDARD
END:VTIMEZONE
BEGIN:VEVENT
DTSTART;TZID=America/New_York:20251205T080000
DTEND;TZID=America/New_York:20251205T143000
DTSTAMP:20260419T110359
CREATED:20250414T191933Z
LAST-MODIFIED:20251210T202554Z
UID:10000361-1764921600-1764945000@www.mhalink.org
SUMMARY:2025 Annual Women Leaders in Healthcare Conference
DESCRIPTION:This event has concluded.  \n\n\n\n\n\n\n\n\n\n\n\n\n\n$275/PP Member \n\n\n\n$375/PP Non-Members \n\n\n\nTable Reservations are also now open!  \n\n\n\nReserve a table for your team or group; each table seats 7. For details or reservations\, contact Lsnelson@mhalink.org \n\n\n\n\n\n\n\n\nRegistration Closed\n\n\n\nEVENT CONTACT\n\n\n\n\n\n\nREGISTERFAX 781-262-6136 \n\n\n\nMAIL –  Check Payable to MHAMHA Education Department500 District Ave.Burlington\, MA 01803-5096 \n\n\n\n\n\n\n\n\n\n\n\nSenior Partner at Life Sciences\, McKinsey & Company | Advisor to CEOs and teams.\n\n\n\n\n\nSpeaker on Stress and Leadership in the Workplace | Columbia Business School Professor | Host of The TED Business Podcast\n\n\n\n\n\nClinical Psychologist | Featured in The New York Times\, The Washington Post\, BBC News and many more outlets.\n\n\n\n\n\n\nAgenda \n\n\n\n8 – 9 a.m. Breakfast and Registration \n\n\n\nVendors: Silver Unicorn Bookstore\, Jennifer’s Handmade Soap\, Kitchen Sink Candle Co. and T. Jazelle \n\n\n\n9 – 9:20 a.m. \n\n\n\nWelcome! \n\n\n\nValerie Fleishman\, Executive Vice President and Chief Innovation Officer\, Massachusetts Health & Hospital Association \n\n\n\nChristine Schuster\, R.N.\, MBA\, President & CEO\, Emerson Health\, MHA Trustee and Former Board Chair \n\n\n\nKim Driscoll\, Lieutenant Governor\, Commonwealth of Massachusetts  \n\n\n\nEmcee Welcome: Eileen Curran\, Director\, Public Relations\, Franciscan Children’s \n\n\n\n9:20 – 10:10 a.m.: Leadership Blind spots: Identify and Overcome What’s Holding You Back \n\n\n\nModupe Akinola\, Professor\, Columbia Business School and Host\, TED Business Podcast \n\n\n\nWhat are the leadership blind spots and common pitfalls that hold back so many senior managers and executives? How do you formalize a process to make better decisions? How do you persuade and influence key stakeholders? Drawing on deep research and delivered with an easy-going grace\, Modupe shows you how to leverage the unique portfolio of skills\, talents\, and backgrounds of those you manage to drive for your team and your organization and be that effective\, even inspiring\, leader. \n\n\n\n10:10 – 10:30 a.m. BREAK \n\n\n\nMeet & Greet the Keynote\, Vendors & Exhibits Open \n\n\n\n10:30 – 11:15 a.m. Leadership in Times of Uncertainty: Building Team Resilience When It Matters Most \n\n\n\n\nLindsay Gainer\, R.N.\, President and Chief Operations Officer\, MGB Medical Group\n\n\n\nYvonne Hao\, Chief Operating Officer & General Partner\, Flagship Pioneering; former Secretary of the Executive Office of Economic Development\, Commonwealth of Massachusetts\n\n\n\nDorosella (Dora) Green\, Head of Health Equity\, Community Health-US Public Affairs\, Takeda Pharmaceuticals   \n\n\n\nDallas Ducar\,R.N.\, Executive Vice President\, Donor Engagement and External Relations\, Fenway Health\n\n\n\n\nModerator: Aimee Brewer\, MPH\, President & CEO\, Sturdy Health \n\n\n\nIn today’s rapidly evolving landscape\, uncertainty is a constant. But strong leadership can turn disruption into opportunity. This panel explores how leaders can foster team resilience\, maintain trust\, and drive performance during challenging times. Hear from experienced women executives who’ve led through crises and learn practical strategies to support and strengthen your teams when it matters most. \n\n\n\n11:15 – 11:45 a.m. Women’s SPOTLIGHT Series: Health & Wealth  \n\n\n\nClosing the Women’s Health Gap & Creating Strategies and Structures that Drive Change \n\n\n\nLucy Pérez\, Senior Partner in McKinsey & Company’s Boston office\, Global Leader\, McKinsey Health Institute\, leader of Life Sciences practice \n\n\n\nDespite advancements in medicine\, significant disparities persist in women’s health research\, access\, and outcomes. Lucy will discuss actionable solutions from policy reform to inclusive research to build a more equitable future for all women. \n\n\n\n11:45 a.m. – 12:30 p.m. LUNCH & Networking \n\n\n\nVendors and Exhibits Open \n\n\n\n12:30 – 1:15 p.m.: How to Be Enough: Self-Acceptance for Self-Critic and Perfectionists \n\n\n\nEllen Hendriksen\, Ph.D.\, Clinical Psychologist\, Boston University’s Center for Anxiety and Related Disorders and author\, How To Be Enough: Self-Acceptance for Self-Critics and Perfectionists  \n\n\n\nPerfectionism\, conflating who we are with our performance\, never feeling good enough. Any of this sound familiar? Perfectionism is a mindset that demands us to perform as superbly as possible to be considered sufficient as a person. But… it’s a misnomer: perfectionism isn’t about striving to be perfect. It’s about never feeling good enough. You don’t need a “new you”\, you don’t even have to do anything overtly differently. Small shifts in mindset can help us discover a kinder\, gentler regard for ourselves without abandoning all that our hard work and high standards have gotten us\, and Dr. Hendriksen will show you how. \n\n\n\n1:15 – 1:45 p.m.: Fireside Chat \n\n\n\nAnne Klibanski\, M.D.\, President & CEO\, Mass General Brigham; MHA Board Chair-Elect \n\n\n\nChristine Schuster\, R.N.\, MBA\, President & CEO\, Emerson Health; MHA Trustee and Former Board Chair \n\n\n\nJoin us for an engaging conversation with a leading healthcare CEO as she reflects on her journey driving meaningful change both within her organization and across the national landscape. From advancing local initiatives to shaping broader system transformation\, she’ll share insights on leadership\, innovation\, and what it takes to move the ball forward in healthcare today. \n\n\n\n1:45 – 2:30 p.m.: Leading with Purpose\, Powered by Courage \n\n\n\n\nState Representative Marjorie C. Decker\, 25th Middlesex District\, House Chair of the Joint Committee on Public Health\n\n\n\nState Senator Cindy Friedman\, 4th Middlesex District\, Senate Chair of the Joint Committee on Health Care Financing\n\n\n\nState Representative Tram T. Nguyen\, 18th Essex District\, Chair of the House Committee on Climate Action and Sustainability\n\n\n\nState Representative Adrianne Pusateri Ramos\, 14th  Essex District\, House Vice Chair of the Joint Committee on Housing\n\n\n\n\nModerator: Emily Dulong\, Vice President of Government Advocacy and Public Policy\, Massachusetts Health and Hospital Association \n\n\n\nIn times of uncertainty\, rapid change\, and growing public scrutiny\, leadership in the public arena demands more than policy expertise. It requires conviction\, courage\, and a deep sense of purpose. This conversation features legislators who have navigated the complexities of governance\, advocacy\, and public service with integrity and resilience. Through personal stories and lessons learned\, they will share how they balance competing priorities\, build consensus across divides\, and make bold decisions guided by values rather than convenience. Whether you’re leading a team\, a community\, or a cause\, this discussion will inspire you to lead with heart\, purpose\, and the courage to make a difference. \n\n\n\n2:30 p.m.: Final Reflections & Closing Remarks \n\n\n\n\n\n\n\n\n\n\n\n\n\n\n\n\n\n\n\n\n\n\n\n\n\n\n\nVendors: Silver Unicorn Bookstore\,  Jennifer’s Handmade Soap\, Kitchen Sink Candle Co.\, and T.Jazelle Bracelets [NEW in 2025!] \n\n\n\n\n\n\n\n\n\n\n\n\nCancellation Policy (for in-person events only): Full refunds will be recognized when cancellations occur at least 5 business days prior to an in-person event. Any cancellation notices received after this time will result in $50 administrative fee. To avoid this penalty\, you may send someone in your place by forwarding their full name\, title and email address to the Director of Healthcare Education\, Amy Smalarz at asmalarz@mhalink.org. No shows will be responsible for payment in full.
URL:https://www.mhalink.org/event/2025-annual-women-leaders-in-healthcare-conference/
LOCATION:Westin Seaport\, 425 Summer St\, Boston\, MA\, 02110\, United States
CATEGORIES:MHA Conferences
ATTACH;FMTTYPE=image/jpeg:https://www.mhalink.org/wp-content/uploads/2025/04/Womens-Conference-Website-2025-1.jpg
END:VEVENT
END:VCALENDAR