BEGIN:VCALENDAR
VERSION:2.0
PRODID:-//Massachusetts Health &amp; Hospital Association - ECPv6.15.20//NONSGML v1.0//EN
CALSCALE:GREGORIAN
METHOD:PUBLISH
X-WR-CALNAME:Massachusetts Health &amp; Hospital Association
X-ORIGINAL-URL:https://www.mhalink.org
X-WR-CALDESC:Events for Massachusetts Health &amp; Hospital Association
REFRESH-INTERVAL;VALUE=DURATION:PT1H
X-Robots-Tag:noindex
X-PUBLISHED-TTL:PT1H
BEGIN:VTIMEZONE
TZID:America/New_York
BEGIN:DAYLIGHT
TZOFFSETFROM:-0500
TZOFFSETTO:-0400
TZNAME:EDT
DTSTART:20250309T070000
END:DAYLIGHT
BEGIN:STANDARD
TZOFFSETFROM:-0400
TZOFFSETTO:-0500
TZNAME:EST
DTSTART:20251102T060000
END:STANDARD
BEGIN:DAYLIGHT
TZOFFSETFROM:-0500
TZOFFSETTO:-0400
TZNAME:EDT
DTSTART:20260308T070000
END:DAYLIGHT
BEGIN:STANDARD
TZOFFSETFROM:-0400
TZOFFSETTO:-0500
TZNAME:EST
DTSTART:20261101T060000
END:STANDARD
BEGIN:DAYLIGHT
TZOFFSETFROM:-0500
TZOFFSETTO:-0400
TZNAME:EDT
DTSTART:20270314T070000
END:DAYLIGHT
BEGIN:STANDARD
TZOFFSETFROM:-0400
TZOFFSETTO:-0500
TZNAME:EST
DTSTART:20271107T060000
END:STANDARD
BEGIN:DAYLIGHT
TZOFFSETFROM:-0500
TZOFFSETTO:-0400
TZNAME:EDT
DTSTART:20280312T070000
END:DAYLIGHT
BEGIN:STANDARD
TZOFFSETFROM:-0400
TZOFFSETTO:-0500
TZNAME:EST
DTSTART:20281105T060000
END:STANDARD
END:VTIMEZONE
BEGIN:VEVENT
DTSTART;TZID=America/New_York:20260519T130000
DTEND;TZID=America/New_York:20260519T170000
DTSTAMP:20260423T153340
CREATED:20260316T201652Z
LAST-MODIFIED:20260422T184228Z
UID:10000422-1779195600-1779210000@www.mhalink.org
SUMMARY:MHA's 2026 Emerging Leaders Summit
DESCRIPTION:$179/pp Rate $149/pp 4+ Group Rate \n\n\n\nIf you are experiencing any difficulties with the site or registration\, please email Sara Ramon at sramon@mhalink.org or Laurie Snelson at lsnelson@mhalink.org for assistance. In your correspondence\, please include the registrant’s name\, title\, organization\, and email for confirmation. \n\n\n\n\n\n\nRegister Here\n\n\n\nEVENT CONTACT\n\n\n\n\n\n\nREGISTERFAX 781-262-6136 \n\n\n\nMAIL –  Check Payable to MHAMHA Education Department500 District Ave.Burlington\, MA 01803-5096 \n\n\n\n\n\n\n\n\n\n\n\n\n\nPlease Note \nAttendees will need to re-set their password on MHA’s Member Portal before registering due to a recent system upgrade. Click here for guidance or simply click “Forgot My Password” and follow the instructions upon registering. \n\n\n\n\n\n\nAGENDA \n\n\n\n1 – 1:50 p.m. Professional Headshots \n\n\n\n2 – 3 p.m. Welcome & Keynote \n\n\n\nAmy Smalarz\, Senior Director\, Healthcare Education and Workforce Development\, Massachusetts Health and Hospital Association \n\n\n\nGarry Ridge\, Chair Emeritus\, WD-40; Founder\, The Learning Moment\, The Culture Coach \n\n\n\n3 – 3:20 p.m.: BREAK & Book Signing \n\n\n\n3:20 – 4:20 p.m.: The Moves that Matter: What Strong Leaders Do Differently \n\n\n\nTim Foley\, Vice President\, Government Relations\, UMass Memorial Health  \n\n\n\nRenee Fosberg\, Senior Vice President & Chief Digital Officer\, Emerson Health \n\n\n\nKristin McGurn\, J.D.\, Partner\, Seyfarth Shaw LLP \n\n\n\nModerator: Greg Wilmot\, CEO and Founder\, PrimePoint Health\, former President & CEO\, NeighborHealth   \n\n\n\n4:20 – 4:50 p.m.: Recipes for Impact: Mixing Purpose\, Passion\, and Service \n\n\n\nTeresa Maynard\, Owner & Operator\, Sweet Teez Bakery \n\n\n\n4:50 p.m.: Ready for the Next Step? \n\n\n\n\n\n\n\nCancellation and Transferring Registration Policy (for in-person events only): Full refunds will be recognized when cancellations occur at least 5 business days prior to an in-person event. Any cancellation notices received after this time will result in $50 administrative fee. To avoid this penalty\, you may send someone in your place by forwarding their full name\, title and email address to the Director of Healthcare Education\, Amy Smalarz at asmalarz@mhalink.org. No shows will be responsible for payment in full.
URL:https://www.mhalink.org/event/mhas-emerging-leaders-summit/
LOCATION:MCLE Conference Center\, 10 Winter Place\, Boston\, Massachusetts\, 02108\, United States
CATEGORIES:MHA Conferences
ATTACH;FMTTYPE=image/png:https://www.mhalink.org/wp-content/uploads/2023/12/Emerging-Leaders-2024-2.png
END:VEVENT
BEGIN:VEVENT
DTSTART;TZID=America/New_York:20260611T083000
DTEND;TZID=America/New_York:20260611T123000
DTSTAMP:20260423T153340
CREATED:20260402T184030Z
LAST-MODIFIED:20260409T150206Z
UID:10000430-1781166600-1781181000@www.mhalink.org
SUMMARY:Post-Acute Care Summit 2026
DESCRIPTION:$129/pp Member Rate \n\n\n\n$229/pp Non-Member Rate \n\n\n\n\n\n\n\n\nRegister Here\n\n\n\nEVENT CONTACT\n\n\n\n\n\n\nREGISTERFAX 781-262-6136 \n\n\n\nMAIL – Check Payable to MHA \n\n\n\nMHA Education Department500 District Ave.Burlington\, MA 01803-5096 \n\n\n\n\n\nIf you are experiencing any difficulties with the site or registration\, please email Sara Ramon at sramon@mhalink.org or Laurie Snelson at lsnelson@mhalink.org for assistance. In your correspondence\, please include the registrant’s name\, title\, organization\, and email for confirmation. \n\n\n\n\n\n\nAs the healthcare system adapts to coverage and reimbursement changes that will be implemented in the coming years\, transitions of care across the continuum and partnership with post-acute care services are more important than ever. Join MHA and other healthcare stakeholders to learn about how hospitals are working with post-acute care partners and the state to improve communication and discharges to skilled nursing facilities\, reduce length of stay\, and provide enhanced rehabilitation services. Hear about what healthcare organizations across the continuum are doing to address throughput and introduce new models of care.  \n\n\n\nFeatured Speakers: \n\n\n\n•Stephanie Baker\, Quality Improvement Manager\, Healthcentric Advisors \n\n\n\n• Amy Baughman\, M.D.\, Massachusetts General Hospital\, Assistant Professor of Medicine\, Harvard Medical School\, Associate Faculty\, Ariadne Labs \n\n\n\n•David Coggins\, Chief Executive Officer\, Encompass Health \n\n\n\n•Adam J. Delmolino\, Senior Director\, Virtual Care and Clinical Affairs\, Massachusetts Health & Hospital Association \n\n\n\n• Trancy Escobar\, Executive Director\, Complex Care and Care Continuum\, Care Continuum Management\, Massachusetts General Brigham \n\n\n\n• Stephanie Martinez\, Executive Director\, Associate Chief Nursing Officer\, Care Continuum\, Boston Medical Center \n\n\n\n• Karen Mattie\, Senior Director of Clinical Operations and Adjunct Clinical Instructor\, Boston University College of Health and Rehabilitation Sciences\, Boston Medical Center Health System \n\n\n\n• Priscilla Ross\, Program Director\, POLST \n\n\n\n• Chloe Slocum\, M.D.\, Director\, Health Policy\, Spaulding Rehabilitation Hospital\, Assistant Professor and Associate Chair for Quality\, Department of Physical Medicine and Rehabilitation\, Harvard Medical School \n\n\n\n•Laura Vanderhill\, Quality Improvement Specialist\, Healthcentric Advisors \n\n\n\nFull agenda and additional speakers will be announced soon.
URL:https://www.mhalink.org/event/post-acute-care-summit-2026/
LOCATION:MHA Conference Center\, 500 District Ave\, Burlington\, Massachusetts\, 01803\, United States
CATEGORIES:MHA Conferences
ATTACH;FMTTYPE=image/png:https://www.mhalink.org/wp-content/uploads/2023/06/Post-Accute-Care-Summit-2023-WEB-1.png
END:VEVENT
BEGIN:VEVENT
DTSTART;TZID=America/New_York:20261203T084500
DTEND;TZID=America/New_York:20261203T143000
DTSTAMP:20260423T153340
CREATED:20260312T190755Z
LAST-MODIFIED:20260402T142034Z
UID:10000420-1796287500-1796308200@www.mhalink.org
SUMMARY:2026 Annual Women Leaders in Healthcare Conference
DESCRIPTION:PLEASE NOTE \nAttendees will need to re-set their password on MHA’s Member Portal before registering due to a recent system upgrade. Click here for guidance or simply click “Forgot My Password” and follow the instructions upon registering. \n\n\n\n\n\n\n\n\n\n\n\n\nEarly Bird Pricing:  \n\n\n\n$250/PP Member \n\n\n\n$350/PP Non-Members \n\n\n\nReserve a table for your team or group; each table seats 8. For details or reservations\, contact Lsnelson@mhalink.org \n\n\n\n\n\n\n\n\nRegister Here\n\n\n\nEVENT CONTACT\n\n\n\n\n\n\nREGISTERFAX 781-262-6136 \n\n\n\nMAIL –  Check Payable to MHAMHA Education Department500 District Ave.Burlington\, MA 01803-5096 \n\n\n\n\n\nJoin us Thursday\, December 3rd for our Annual Womens Event. Don’t miss hearing incredible insights from this years speakers!  \n\n\n\n\n\n\n\nMore Information to come! \n\n\n\n\n\n\n\n\n\n \n\n\n\n\n\n \n\n\n\n\n\n \n\n\n\n\n\n\n\n\n\n\nHighlights from our 2025 Womens Event:  \n\n\n\n\n\n\n\n\n\n\n\n\n\n\n\n\n\n\n\n\n\n\n\n\n\n\n\n\n\n\n\n\n\n\n\n\n\n\n\n\n\n\n\n\n\n\n\n\n\n\n\n\n\n\n\n\n\n\n\n\n\n\n\n\n\n\n\n\n\n\n\n\n\n\n\n\n\n\n\n\n\n\nCancellation Policy (for in-person events only): Full refunds will be recognized when cancellations occur at least 5 business days prior to an in-person event. Any cancellation notices received after this time will result in $50 administrative fee. To avoid this penalty\, you may send someone in your place by forwarding their full name\, title and email address to the Director of Healthcare Education\, Amy Smalarz at asmalarz@mhalink.org. No shows will be responsible for payment in full.
URL:https://www.mhalink.org/event/2026-annual-women-leaders-in-healthcare-conference/
LOCATION:Westin Seaport\, 425 Summer St\, Boston\, MA\, 02110\, United States
CATEGORIES:MHA Conferences
ATTACH;FMTTYPE=image/png:https://www.mhalink.org/wp-content/uploads/2026/03/Womens-2026.png
END:VEVENT
BEGIN:VEVENT
DTSTART;TZID=America/New_York:20270114T090000
DTEND;TZID=America/New_York:20270114T160000
DTSTAMP:20260423T153340
CREATED:20260313T154042Z
LAST-MODIFIED:20260313T154707Z
UID:10000421-1799917200-1799942400@www.mhalink.org
SUMMARY:MHA's Annual Meeting
DESCRIPTION:Early Bird Pricing\n\n\n\n\n$399/PP Member\n\n\n\n\n\n$799/PP Non-Member\n\n\n\nReserve a table for your team or group; each table seats 8. For details or reservations\, contact Lsnelson@mhalink.org \n\n\n\n\n\n\n\n\n\n\n\n\nRegister Here!\n\n\n\nEVENT CONTACT\n\n\n\n\n\n\nREGISTERFAX 781-262-6136\n\n\n\n\nMAIL -  Check Payable to MHAMHA Education Department500 District Ave.Burlington\, MA 01803-5096\n\n\n\n\n\n\n\n\n\n\n\n\n\nMore information to come! \n\n\n\n\n\n\n\n\n\n\nThe Massachusetts Health & Hospital Association’s Annual Meeting is the premier event for the state’s top healthcare leaders\, policymakers\, and influencers to convene and discuss the biggest topics facing the provider community. \n\n\n\n\n\n\n\nJoin us as a Sponsor of MHA’s 2027 Annual Meeting \n\n\n\nThis prestigious event will bring together senior executives and leaders from across the healthcare industry to discuss the latest trends\, innovations\, and challenges facing healthcare today.  \n\n\n\nAs a sponsor\, you will gain exceptional visibility among a diverse group of attendees\, providing a unique opportunity to showcase your brand and connect with key decision-makers in the industry. \n\n\n\n\nContact Amy Smalarz  for Sponsorship Opportunities\n\n\n\n\n\n\nHighlights from our 2026 year Annual Meeting:  \n\n\n\n\n\n\n\n\n\n\n\n\n\n\n\n\n\n\n\n\n\n\n\n\n\n\n\n\n\n\n\n\n\n\n\n\n\n\n\n\n\n\n\n\n\n\n\n\n\n\n\n\n\n\n\n\n\n\n\n\n\n\n\n\n\n\n\n\n\n\n\n\n\n\n\n\n\n\n\n\n\nCancellation Policy (for in-person events only): Full refunds will be recognized when cancellations occur at least 5 business days prior to an in-person event. Any cancellation notices received after this time will result in $50 administrative fee. To avoid this penalty\, you may send someone in your place by forwarding their full name\, title and email address to the Director of Healthcare Education\, Amy Smalarz at asmalarz@mhalink.org. No shows will be responsible for payment in full.
URL:https://www.mhalink.org/event/mhas-annual-meeting/
LOCATION:Westin Copley Place\, 10 Huntington Ave\,\, Boston\, Massachusetts\, 02116\, United States
CATEGORIES:MHA Conferences
ATTACH;FMTTYPE=image/png:https://www.mhalink.org/wp-content/uploads/2026/03/AM26-Annual-Meeting-5.png
END:VEVENT
END:VCALENDAR