BEGIN:VCALENDAR
VERSION:2.0
PRODID:-//Massachusetts Health &amp; Hospital Association - ECPv6.15.20//NONSGML v1.0//EN
CALSCALE:GREGORIAN
METHOD:PUBLISH
X-WR-CALNAME:Massachusetts Health &amp; Hospital Association
X-ORIGINAL-URL:https://www.mhalink.org
X-WR-CALDESC:Events for Massachusetts Health &amp; Hospital Association
REFRESH-INTERVAL;VALUE=DURATION:PT1H
X-Robots-Tag:noindex
X-PUBLISHED-TTL:PT1H
BEGIN:VTIMEZONE
TZID:America/New_York
BEGIN:DAYLIGHT
TZOFFSETFROM:-0500
TZOFFSETTO:-0400
TZNAME:EDT
DTSTART:20200308T070000
END:DAYLIGHT
BEGIN:STANDARD
TZOFFSETFROM:-0400
TZOFFSETTO:-0500
TZNAME:EST
DTSTART:20201101T060000
END:STANDARD
BEGIN:DAYLIGHT
TZOFFSETFROM:-0500
TZOFFSETTO:-0400
TZNAME:EDT
DTSTART:20210314T070000
END:DAYLIGHT
BEGIN:STANDARD
TZOFFSETFROM:-0400
TZOFFSETTO:-0500
TZNAME:EST
DTSTART:20211107T060000
END:STANDARD
BEGIN:DAYLIGHT
TZOFFSETFROM:-0500
TZOFFSETTO:-0400
TZNAME:EDT
DTSTART:20220313T070000
END:DAYLIGHT
BEGIN:STANDARD
TZOFFSETFROM:-0400
TZOFFSETTO:-0500
TZNAME:EST
DTSTART:20221106T060000
END:STANDARD
END:VTIMEZONE
BEGIN:VEVENT
DTSTART;TZID=America/New_York:20210223T080000
DTEND;TZID=America/New_York:20210223T083000
DTSTAMP:20260421T131623
CREATED:20220809T191800Z
LAST-MODIFIED:20230609T151245Z
UID:10000113-1614067200-1614069000@www.mhalink.org
SUMMARY:New Year\, New Hope: A Look at the Year Ahead with Dr. Eric W. Dickson\, president & CEO of UMass Memorial Health
DESCRIPTION:Dr. Eric W. Dickson\, president & CEO of UMass Memorial Health\, joins MHA’s Executive Insights series to share his journey in healthcare\, thoughts on current issues facing the healthcare community\, and what the path forward holds for the commonwealth’s healthcare community.
URL:https://www.mhalink.org/event/new-year-new-hope-a-look-at-the-year-ahead/
CATEGORIES:Executive Insights
ATTACH;FMTTYPE=image/png:https://www.mhalink.org/wp-content/uploads/2023/05/Executive-Insights-concept-Website-Friendly-1.png
END:VEVENT
END:VCALENDAR