BEGIN:VCALENDAR
VERSION:2.0
PRODID:-//Massachusetts Health &amp; Hospital Association - ECPv6.15.20//NONSGML v1.0//EN
CALSCALE:GREGORIAN
METHOD:PUBLISH
X-ORIGINAL-URL:https://www.mhalink.org
X-WR-CALDESC:Events for Massachusetts Health &amp; Hospital Association
REFRESH-INTERVAL;VALUE=DURATION:PT1H
X-Robots-Tag:noindex
X-PUBLISHED-TTL:PT1H
BEGIN:VTIMEZONE
TZID:America/New_York
BEGIN:DAYLIGHT
TZOFFSETFROM:-0500
TZOFFSETTO:-0400
TZNAME:EDT
DTSTART:20250309T070000
END:DAYLIGHT
BEGIN:STANDARD
TZOFFSETFROM:-0400
TZOFFSETTO:-0500
TZNAME:EST
DTSTART:20251102T060000
END:STANDARD
BEGIN:DAYLIGHT
TZOFFSETFROM:-0500
TZOFFSETTO:-0400
TZNAME:EDT
DTSTART:20260308T070000
END:DAYLIGHT
BEGIN:STANDARD
TZOFFSETFROM:-0400
TZOFFSETTO:-0500
TZNAME:EST
DTSTART:20261101T060000
END:STANDARD
BEGIN:DAYLIGHT
TZOFFSETFROM:-0500
TZOFFSETTO:-0400
TZNAME:EDT
DTSTART:20270314T070000
END:DAYLIGHT
BEGIN:STANDARD
TZOFFSETFROM:-0400
TZOFFSETTO:-0500
TZNAME:EST
DTSTART:20271107T060000
END:STANDARD
END:VTIMEZONE
BEGIN:VEVENT
DTSTART;TZID=America/New_York:20260203T120000
DTEND;TZID=America/New_York:20260203T130000
DTSTAMP:20260423T095844
CREATED:20260114T180259Z
LAST-MODIFIED:20260203T200138Z
UID:10000404-1770120000-1770123600@www.mhalink.org
SUMMARY:Gender-Affirming Care Services: Insights from Foley & Lardner 
DESCRIPTION:This event has concluded. \n\n\n\n\n\n\n\n\n\n\n\nThis webinar will focus on understanding the landscape surrounding the provision of gender-affirming care services\, with an overview of the types of services provided\, the proposed federal rulemaking on the issue\, legal challenges\, and state-based legal implications. It will also provide a background and update on current federal and state initiatives in this area. This webinar is in partnership with MHA’s external policy counsel\, Foley & Lardner.
URL:https://www.mhalink.org/event/gender-affirming-care-services-insights-from-foley-lardner/
CATEGORIES:Hot Topics Webinars
ATTACH;FMTTYPE=image/png:https://www.mhalink.org/wp-content/uploads/2023/06/Hot-Topic-Webinar-Series-Small-1-1.png
END:VEVENT
BEGIN:VEVENT
DTSTART;TZID=America/New_York:20260205T120000
DTEND;TZID=America/New_York:20260205T124500
DTSTAMP:20260423T095844
CREATED:20251113T022426Z
LAST-MODIFIED:20260204T152632Z
UID:10000402-1770292800-1770295500@www.mhalink.org
SUMMARY:Maximizing Hospital Revenue Generation through Personal Injury Protection Recovery
DESCRIPTION:Register Here\n\n\n\n\n\n\n\n\nHealthcare providers can unlock hidden revenue potential by recovering unpaid or underpaid Personal Injury Protection (PIP) benefits. The Massachusetts Personal Injury Protection Lawyers\, LLC offer a full suite of services to assist facilities in recovering unpaid\, underpaid\, reduced\, and/or wrongfully denied PIP benefits under Massachusetts law. The firm conducts a comprehensive retrospective review (going back up to six years) of processed and closed PIP claims to identify missed recovery opportunities. Services from The Massachusetts Personal Injury Protection Lawyers are supplemental to\, and operate independently from\, a facility’s existing billing and collection processes\, whether handled internally or by a third-party vendor. The firm retains only attorney’s fees and costs awarded and paid by the insurer through settlement or judgment; 100% of the recovered unpaid balances go directly to the provider entity. \n\n\n\n\nFeaturing: \n\n\n\n\nMarc Anidjar\, Managing Partner\, Massachusetts Personal Injury Protection Lawyers\, PLLC\n\n\n\nTravis Greene\, Managing Partner\, Massachusetts Personal Injury Protection Lawyers\, PLLC\n\n\n\nSean Lancey\, Trial Attorney Lead\, Massachusetts Personal Injury Protection Lawyers\, PLLC
URL:https://www.mhalink.org/event/maximizing-hospital-revenue-generation-through-personal-injury-protection-recovery/
CATEGORIES:Hot Topics Webinars
ATTACH;FMTTYPE=image/png:https://www.mhalink.org/wp-content/uploads/2023/06/Hot-Topic-Webinar-Series-Small-1-1.png
END:VEVENT
BEGIN:VEVENT
DTSTART;TZID=America/New_York:20260219T120000
DTEND;TZID=America/New_York:20260219T130000
DTSTAMP:20260423T095844
CREATED:20260203T213433Z
LAST-MODIFIED:20260219T201036Z
UID:10000408-1771502400-1771506000@www.mhalink.org
SUMMARY:Funding the Future Nursing Workforce: Inside the NCWS Apprenticeship Planning Grant
DESCRIPTION:This event had concluded.  \n\n\n\n\n\n\n\n\n\nThis webinar will provide a practical walkthrough of the Massachusetts Nursing Council on Workforce Sustainability (NCWS) Nursing Apprenticeship Planning Grant\, a $30\,000–$60\,000 funding opportunity designed to help healthcare employers and public higher education institutions build and register LPN and RN apprenticeships in Massachusetts. Participants will learn who is eligible\, what strong partnership applications look like\, and how funded projects are expected to move from planning to programs that meet state Division of Apprentice Standards.  \n\n\n\n\n\n\n\n\nThe session will also clarify: \n\n\n\n\nNCWS’s role as intermediary and sponsor\n\n\n\nkey timelines\n\n\n\nrequired deliverables\n\n\n\ncommon pitfalls to avoid during the application and planning process
URL:https://www.mhalink.org/event/funding-the-future-nursing-workforce-inside-the-ncws-apprenticeship-planning-grant/
CATEGORIES:Hot Topics Webinars
ATTACH;FMTTYPE=image/png:https://www.mhalink.org/wp-content/uploads/2023/06/Hot-Topic-Webinar-Series-Small-1-1.png
END:VEVENT
END:VCALENDAR